BEGIN:VCALENDAR
VERSION:2.0
PRODID:-//Johannes-Schoch-Schule - ECPv6.15.20//NONSGML v1.0//EN
CALSCALE:GREGORIAN
METHOD:PUBLISH
X-ORIGINAL-URL:https://johannes-schoch-schule.de
X-WR-CALDESC:Veranstaltungen für Johannes-Schoch-Schule
REFRESH-INTERVAL;VALUE=DURATION:PT1H
X-Robots-Tag:noindex
X-PUBLISHED-TTL:PT1H
BEGIN:VTIMEZONE
TZID:UTC
BEGIN:STANDARD
TZOFFSETFROM:+0000
TZOFFSETTO:+0000
TZNAME:UTC
DTSTART:20240101T000000
END:STANDARD
END:VTIMEZONE
BEGIN:VEVENT
DTSTART;TZID=UTC:20251023T183000
DTEND;TZID=UTC:20251023T200000
DTSTAMP:20260425T154526
CREATED:20240409T064500Z
LAST-MODIFIED:20250801T122039Z
UID:2273-1761244200-1761249600@johannes-schoch-schule.de
SUMMARY:Fördervereinssitzung
DESCRIPTION:
URL:https://johannes-schoch-schule.de/event/foerdervereinssitzung
LOCATION:Lehrerzimmer der Johannes-Schoch-Schule\, Obere Breitstr. 7\, Königsbach\, 75203\, Deutschland
END:VEVENT
END:VCALENDAR