BEGIN:VCALENDAR
VERSION:2.0
PRODID:-//Johannes-Schoch-Schule - ECPv6.15.20//NONSGML v1.0//EN
CALSCALE:GREGORIAN
METHOD:PUBLISH
X-ORIGINAL-URL:https://johannes-schoch-schule.de
X-WR-CALDESC:Veranstaltungen für Johannes-Schoch-Schule
REFRESH-INTERVAL;VALUE=DURATION:PT1H
X-Robots-Tag:noindex
X-PUBLISHED-TTL:PT1H
BEGIN:VTIMEZONE
TZID:UTC
BEGIN:STANDARD
TZOFFSETFROM:+0000
TZOFFSETTO:+0000
TZNAME:UTC
DTSTART:20240101T000000
END:STANDARD
END:VTIMEZONE
BEGIN:VEVENT
DTSTART;TZID=UTC:20251119T190000
DTEND;TZID=UTC:20251119T200000
DTSTAMP:20260424T074856
CREATED:20231009T073532Z
LAST-MODIFIED:20251023T071501Z
UID:1856-1763578800-1763582400@johannes-schoch-schule.de
SUMMARY:Elternabend zum Thema "Schulbereitschaft"
DESCRIPTION:Einladung zum Elternabend \n 
URL:https://johannes-schoch-schule.de/event/info1
LOCATION:Musiksaal der Johannes-Schoch-Schule\, Obere Breitstr. 7\, Königsbach-Stein\, Deutschland
END:VEVENT
END:VCALENDAR