BEGIN:VCALENDAR
VERSION:2.0
PRODID:-//Johannes-Schoch-Schule - ECPv6.15.20//NONSGML v1.0//EN
CALSCALE:GREGORIAN
METHOD:PUBLISH
X-ORIGINAL-URL:https://johannes-schoch-schule.de
X-WR-CALDESC:Veranstaltungen für Johannes-Schoch-Schule
REFRESH-INTERVAL;VALUE=DURATION:PT1H
X-Robots-Tag:noindex
X-PUBLISHED-TTL:PT1H
BEGIN:VTIMEZONE
TZID:UTC
BEGIN:STANDARD
TZOFFSETFROM:+0000
TZOFFSETTO:+0000
TZNAME:UTC
DTSTART:20250101T000000
END:STANDARD
END:VTIMEZONE
BEGIN:VEVENT
DTSTART;TZID=UTC:20260213T083500
DTEND;TZID=UTC:20260213T121000
DTSTAMP:20260421T145112
CREATED:20240111T084302Z
LAST-MODIFIED:20250801T121833Z
UID:2117-1770971700-1770984600@johannes-schoch-schule.de
SUMMARY:Faschingsparty
DESCRIPTION:
URL:https://johannes-schoch-schule.de/event/faschingsparty-sj2324
LOCATION:Musiksaal der Johannes-Schoch-Schule\, Obere Breitstr. 7\, Königsbach-Stein\, Deutschland
END:VEVENT
END:VCALENDAR