BEGIN:VCALENDAR
VERSION:2.0
PRODID:-//Johannes-Schoch-Schule - ECPv6.15.20//NONSGML v1.0//EN
CALSCALE:GREGORIAN
METHOD:PUBLISH
X-ORIGINAL-URL:https://johannes-schoch-schule.de
X-WR-CALDESC:Veranstaltungen für Johannes-Schoch-Schule
REFRESH-INTERVAL;VALUE=DURATION:PT1H
X-Robots-Tag:noindex
X-PUBLISHED-TTL:PT1H
BEGIN:VTIMEZONE
TZID:UTC
BEGIN:STANDARD
TZOFFSETFROM:+0000
TZOFFSETTO:+0000
TZNAME:UTC
DTSTART:20250101T000000
END:STANDARD
END:VTIMEZONE
BEGIN:VEVENT
DTSTART;TZID=UTC:20260225T130000
DTEND;TZID=UTC:20260225T154500
DTSTAMP:20260421T132254
CREATED:20240111T083902Z
LAST-MODIFIED:20250801T121059Z
UID:2111-1772024400-1772034300@johannes-schoch-schule.de
SUMMARY:Schulanmeldung für das Schuljahr 26/27
DESCRIPTION:Flyer mit den Terminen für den Schulanfang 25/26 \nInformation zur Schulanmeldung 25/26
URL:https://johannes-schoch-schule.de/event/schulanmeldung-neues-sj
LOCATION:Musiksaal der Johannes-Schoch-Schule\, Obere Breitstr. 7\, Königsbach-Stein\, Deutschland
END:VEVENT
END:VCALENDAR