BEGIN:VCALENDAR
VERSION:2.0
PRODID:-//Johannes-Schoch-Schule - ECPv6.15.20//NONSGML v1.0//EN
CALSCALE:GREGORIAN
METHOD:PUBLISH
X-WR-CALNAME:Johannes-Schoch-Schule
X-ORIGINAL-URL:https://johannes-schoch-schule.de
X-WR-CALDESC:Veranstaltungen für Johannes-Schoch-Schule
REFRESH-INTERVAL;VALUE=DURATION:PT1H
X-Robots-Tag:noindex
X-PUBLISHED-TTL:PT1H
BEGIN:VTIMEZONE
TZID:UTC
BEGIN:STANDARD
TZOFFSETFROM:+0000
TZOFFSETTO:+0000
TZNAME:UTC
DTSTART:20250101T000000
END:STANDARD
END:VTIMEZONE
BEGIN:VEVENT
DTSTART;VALUE=DATE:20260514
DTEND;VALUE=DATE:20260516
DTSTAMP:20260421T114955
CREATED:20240730T113618Z
LAST-MODIFIED:20250801T120634Z
UID:2474-1778716800-1778889599@johannes-schoch-schule.de
SUMMARY:Christi Himmelfahrt und beweglicher Ferientag
DESCRIPTION:
URL:https://johannes-schoch-schule.de/event/christi-himmelfahrt
END:VEVENT
END:VCALENDAR