BEGIN:VCALENDAR
VERSION:2.0
PRODID:-//Johannes-Schoch-Schule - ECPv6.15.20//NONSGML v1.0//EN
CALSCALE:GREGORIAN
METHOD:PUBLISH
X-WR-CALNAME:Johannes-Schoch-Schule
X-ORIGINAL-URL:https://johannes-schoch-schule.de
X-WR-CALDESC:Veranstaltungen für Johannes-Schoch-Schule
REFRESH-INTERVAL;VALUE=DURATION:PT1H
X-Robots-Tag:noindex
X-PUBLISHED-TTL:PT1H
BEGIN:VTIMEZONE
TZID:UTC
BEGIN:STANDARD
TZOFFSETFROM:+0000
TZOFFSETTO:+0000
TZNAME:UTC
DTSTART:20240101T000000
END:STANDARD
END:VTIMEZONE
BEGIN:VEVENT
DTSTART;VALUE=DATE:20250731
DTEND;VALUE=DATE:20250915
DTSTAMP:20260425T154109
CREATED:20240730T110604Z
LAST-MODIFIED:20240730T110604Z
UID:2460-1753920000-1757894399@johannes-schoch-schule.de
SUMMARY:Sommerferien
DESCRIPTION:
URL:https://johannes-schoch-schule.de/event/sommerferien_-neues-sj
END:VEVENT
BEGIN:VEVENT
DTSTART;TZID=UTC:20250915T083500
DTEND;TZID=UTC:20250915T121000
DTSTAMP:20260425T154109
CREATED:20240627T065449Z
LAST-MODIFIED:20250731T105113Z
UID:2353-1757925300-1757938200@johannes-schoch-schule.de
SUMMARY:Erster Schultag
DESCRIPTION:Klassenlehrerunterricht
URL:https://johannes-schoch-schule.de/event/erster-schultag
END:VEVENT
BEGIN:VEVENT
DTSTART;TZID=UTC:20250916T083000
DTEND;TZID=UTC:20250916T121000
DTSTAMP:20260425T154109
CREATED:20240703T130617Z
LAST-MODIFIED:20250731T105216Z
UID:2359-1758011400-1758024600@johannes-schoch-schule.de
SUMMARY:Zweiter Schultag
DESCRIPTION:Klassenlehrerunterricht
URL:https://johannes-schoch-schule.de/event/zweiter-schultag
END:VEVENT
BEGIN:VEVENT
DTSTART;TZID=UTC:20250916T190000
DTEND;TZID=UTC:20250916T203000
DTSTAMP:20260425T154109
CREATED:20240703T130805Z
LAST-MODIFIED:20250731T105455Z
UID:2361-1758049200-1758054600@johannes-schoch-schule.de
SUMMARY:Elternabend der zukünftigen Erstklässler
DESCRIPTION:
URL:https://johannes-schoch-schule.de/event/sj2526elternabend-der-zukuenftigen-erstklaessler
END:VEVENT
BEGIN:VEVENT
DTSTART;TZID=UTC:20250918T143000
DTEND;TZID=UTC:20250918T153000
DTSTAMP:20260425T154109
CREATED:20240703T130909Z
LAST-MODIFIED:20250731T110258Z
UID:2363-1758205800-1758209400@johannes-schoch-schule.de
SUMMARY:Gottesdienst zur Einschulungsfeier
DESCRIPTION:
URL:https://johannes-schoch-schule.de/event/sj2526gottesdienst-zur-einschulungsfeier-2
LOCATION:Ev. Kirche Königsbach\, Kirchstr. 11\, Königsbach\, 75203
END:VEVENT
BEGIN:VEVENT
DTSTART;TZID=UTC:20250918T160000
DTEND;TZID=UTC:20250918T173000
DTSTAMP:20260425T154109
CREATED:20240703T131027Z
LAST-MODIFIED:20250731T110413Z
UID:2365-1758211200-1758216600@johannes-schoch-schule.de
SUMMARY:Einschulungsfeier
DESCRIPTION:
URL:https://johannes-schoch-schule.de/event/sj2526einschulungsfeier-2
LOCATION:Schulhof der Johannes-Schoch-Schule\, Obere Breitstr. 7\, Königsbach\, 75203
END:VEVENT
BEGIN:VEVENT
DTSTART;TZID=UTC:20250919T083500
DTEND;TZID=UTC:20250919T121000
DTSTAMP:20260425T154109
CREATED:20240703T131344Z
LAST-MODIFIED:20250731T110505Z
UID:2371-1758270900-1758283800@johannes-schoch-schule.de
SUMMARY:Erster Schultag für Klasse 1
DESCRIPTION:Klassenlehrerunterricht
URL:https://johannes-schoch-schule.de/event/sj2526erster-schultag-fuer-klasse-1
END:VEVENT
BEGIN:VEVENT
DTSTART;TZID=UTC:20250922T083500
DTEND;TZID=UTC:20250922T121000
DTSTAMP:20260425T154109
CREATED:20240703T131513Z
LAST-MODIFIED:20250731T110554Z
UID:2374-1758530100-1758543000@johannes-schoch-schule.de
SUMMARY:Zweiter Schultag für Klasse 1
DESCRIPTION:Klassenlehrerunterricht
URL:https://johannes-schoch-schule.de/event/sj2526zweiter-schultag-fuer-klasse-1
END:VEVENT
END:VCALENDAR